BEGIN:VCALENDAR
VERSION:2.0
PRODID:-//ChamberMaster//Event Calendar 2.0//EN
METHOD:PUBLISH
X-PUBLISHED-TTL:P3D
REFRESH-INTERVAL:P3D
CALSCALE:GREGORIAN
BEGIN:VEVENT
DTSTART:20190605T130000Z
DTEND:20190605T190000Z
X-MICROSOFT-CDO-ALLDAYEVENT:FALSE
SUMMARY:2019 Small Business Forum
DESCRIPTION:Small Business of the Year Forum
X-ALT-DESC;FMTTYPE=text/html:Small Business of the Year Forum&nbsp\;
LOCATION:Washington County Fairgrounds Event Center
UID:e.92.61765
SEQUENCE:3
DTSTAMP:20260423T042213Z
URL:https://chamber.brenhamtexas.com/events/details/2019-small-business-forum-61765
END:VEVENT

END:VCALENDAR
