BEGIN:VCALENDAR
VERSION:2.0
PRODID:-//ChamberMaster//Event Calendar 2.0//EN
METHOD:PUBLISH
X-PUBLISHED-TTL:P3D
REFRESH-INTERVAL:P3D
CALSCALE:GREGORIAN
BEGIN:VEVENT
DTSTART:20170523T140000Z
DTEND:20170523T160000Z
X-MICROSOFT-CDO-ALLDAYEVENT:FALSE
SUMMARY:Better Choices Better Health
DESCRIPTION:If you are dealing with an ongoing health condition\, such as diabetes\, arthritis\, high blood pressure\, heart disease\, chronic pain\, or something else BETTER CHOICES\, BETTER HEALTH can help you take control of your health and put you on track towards a better life!
X-ALT-DESC;FMTTYPE=text/html:If you are dealing with an ongoing health condition\, such as diabetes\, arthritis\, high blood pressure\, heart disease\, chronic pain\, or something else BETTER CHOICES\, BETTER HEALTH can help you take control of your health and put you on track towards a better life!
LOCATION:Margaret E. Blizzard- Senior Activity Center. 1301 East Tom Green Street Hosted by: Baylor Scott and White Wellness Center
UID:e.92.46787
SEQUENCE:3
DTSTAMP:20260419T162840Z
URL:https://chamber.brenhamtexas.com/events/details/better-choices-better-health-05-23-2017-46787
END:VEVENT

END:VCALENDAR
