BEGIN:VCALENDAR
VERSION:2.0
PRODID:-//ChamberMaster//Event Calendar 2.0//EN
METHOD:PUBLISH
X-PUBLISHED-TTL:P3D
REFRESH-INTERVAL:P3D
CALSCALE:GREGORIAN
BEGIN:VEVENT
DTSTART:20181103T150000Z
DTEND:20181103T210000Z
X-MICROSOFT-CDO-ALLDAYEVENT:FALSE
SUMMARY:Blackwood Harvest Hoedown
DESCRIPTION:The first annual Blackwood Harvest Hoedown is a day-long immersive farm experience for to raise funds for the Blackwood Educational Land Institute.  Attendees will enjoy curated classes and demonstrations from our vendors (for adults and youth alike) ranging from fermentation and mixology to mushroom hunting and beekeeping.  And yes there will be hay rides!!!
X-ALT-DESC;FMTTYPE=text/html:The first annual Blackwood Harvest Hoedown is a day-long immersive farm experience for to raise funds for the Blackwood Educational Land Institute.&nbsp\; Attendees will enjoy curated classes and demonstrations from our vendors (for adults and youth alike) ranging from fermentation and mixology to mushroom hunting and beekeeping.&nbsp\; And yes there will be hay rides!!!
LOCATION:27144 Rock Island Road Hempstead\, TX 77445
UID:e.92.59508
SEQUENCE:3
DTSTAMP:20260423T012440Z
URL:https://chamber.brenhamtexas.com/events/details/blackwood-harvest-hoedown-59508
END:VEVENT

END:VCALENDAR
