BEGIN:VCALENDAR
VERSION:2.0
PRODID:-//ChamberMaster//Event Calendar 2.0//EN
METHOD:PUBLISH
X-PUBLISHED-TTL:P3D
REFRESH-INTERVAL:P3D
CALSCALE:GREGORIAN
BEGIN:VEVENT
DTSTART:20190603T170000Z
DTEND:20190603T180000Z
X-MICROSOFT-CDO-ALLDAYEVENT:FALSE
SUMMARY:Blue Blazer Meeting
DESCRIPTION:Monthly meeting for the Washington County Chamber Blue Blazers.
X-ALT-DESC;FMTTYPE=text/html:Monthly meeting for the Washington County Chamber Blue Blazers.
LOCATION:Washington County Chamber of Commerce 314 S. Austin Street Brenham\, TX 77833
UID:e.92.60702
SEQUENCE:3
DTSTAMP:20260421T031055Z
URL:https://chamber.brenhamtexas.com/events/details/blue-blazer-meeting-60702
END:VEVENT

END:VCALENDAR
