BEGIN:VCALENDAR
VERSION:2.0
PRODID:-//ChamberMaster//Event Calendar 2.0//EN
METHOD:PUBLISH
X-PUBLISHED-TTL:P3D
REFRESH-INTERVAL:P3D
CALSCALE:GREGORIAN
BEGIN:VEVENT
DTSTART:20191207T180000Z
DTEND:20191208T000000Z
X-MICROSOFT-CDO-ALLDAYEVENT:FALSE
SUMMARY:Brenham Trade Days
DESCRIPTION:Brenham Trade Days at the Washington County Fairgrounds Entertainment Pavilion Area.  Free Admission & Parking Family and Pet friendly.  Accepting Food Vendors and Food Trucks.
X-ALT-DESC;FMTTYPE=text/html:Brenham Trade Days at the Washington County Fairgrounds Entertainment Pavilion Area.&nbsp\; Free Admission &amp\; Parking Family and Pet friendly.&nbsp\; Accepting Food Vendors and Food Trucks.
LOCATION:Washington County Fairgrounds 1305 E. Blue Bell Rd Brenham\, TX 77833
UID:e.92.61795
SEQUENCE:3
DTSTAMP:20260420T095348Z
URL:https://chamber.brenhamtexas.com/events/details/brenham-trade-days-61795
END:VEVENT

END:VCALENDAR
