BEGIN:VCALENDAR
VERSION:2.0
PRODID:-//ChamberMaster//Event Calendar 2.0//EN
METHOD:PUBLISH
X-PUBLISHED-TTL:P3D
REFRESH-INTERVAL:P3D
CALSCALE:GREGORIAN
BEGIN:VEVENT
DTSTART;VALUE=DATE:20260313
DTEND;VALUE=DATE:20260315
TRANSP:TRANSPARENT
X-MICROSOFT-CDO-ALLDAYEVENT:TRUE
SUMMARY:CHILDREN'S BOOK SIGNING WITH DR. JIM WILSON
DESCRIPTION:CHILDREN'S BOOK SIGNING WITH LOCAL AUTHUR DR. JIM WILSON AND HIS BOOK "SPECKLES AND FRECKLES"
X-ALT-DESC;FMTTYPE=text/html:CHILDREN&#39\;S BOOK SIGNING WITH LOCAL AUTHUR DR. JIM WILSON AND HIS BOOK &quot\;SPECKLES AND FRECKLES&quot\;
LOCATION:HERMANN FURNITURE & EMPORIUM 213 W. ALAMO STREET BRENHAM\, TEXAS 77833 979-836-7231
UID:e.92.98505
SEQUENCE:3
DTSTAMP:20260421T095403Z
URL:https://chamber.brenhamtexas.com/events/details/children-s-book-signing-with-dr-jim-wilson-98505
END:VEVENT

END:VCALENDAR
