BEGIN:VCALENDAR
VERSION:2.0
PRODID:-//ChamberMaster//Event Calendar 2.0//EN
METHOD:PUBLISH
X-PUBLISHED-TTL:P3D
REFRESH-INTERVAL:P3D
CALSCALE:GREGORIAN
BEGIN:VEVENT
DTSTART:20190901T150000Z
DTEND:20190901T210000Z
X-MICROSOFT-CDO-ALLDAYEVENT:FALSE
SUMMARY:Corn Off The Cob
DESCRIPTION:The ears of corn have dried in the summer sun and been gathered to the corn crib. Now it's time to husk the ears and shell the kernels off the cobb using our 19th century original crank corn sheller. Come help us prepare our valuable crop for the gristmill. Race a friend to see who can husk an ear the fastest\, and then take a turn cranking the sheller.
X-ALT-DESC;FMTTYPE=text/html:<span style="color: rgb(0\, 0\, 0)\; font-family: Poppins\; font-size: 14px\;">The ears of corn have dried in the summer sun and been gathered to the corn crib. Now it&rsquo\;s time to husk the ears and shell the kernels off the cobb using our 19th century original crank corn sheller. Come help us prepare our valuable crop for the gristmill. Race a friend to see who can husk an ear the fastest\, and then take a turn cranking the sheller.</span>
LOCATION:Washington on the Brazos 23400 Park Road 12 Washington\, TX 77880
UID:e.92.62095
SEQUENCE:3
DTSTAMP:20260423T110149Z
URL:https://chamber.brenhamtexas.com/events/details/corn-off-the-cob-09-01-2019-62095
END:VEVENT

END:VCALENDAR
