BEGIN:VCALENDAR
VERSION:2.0
PRODID:-//ChamberMaster//Event Calendar 2.0//EN
METHOD:PUBLISH
X-PUBLISHED-TTL:P3D
REFRESH-INTERVAL:P3D
CALSCALE:GREGORIAN
BEGIN:VEVENT
DTSTART:20190912T220000Z
DTEND:20190913T010000Z
X-MICROSOFT-CDO-ALLDAYEVENT:FALSE
SUMMARY:Craft Beer Night
DESCRIPTION:It's all about Cradt Beer - $1 off pints.
X-ALT-DESC;FMTTYPE=text/html:It&#39\;s all about Cradt Beer - $1 off pints.&nbsp\;&nbsp\;&nbsp\;&nbsp\;&nbsp\;&nbsp\;&nbsp\;&nbsp\;
LOCATION:Home Sweet Farms 307 S. Park St. Brenham\, TX 77833
UID:e.92.40975
SEQUENCE:3
DTSTAMP:20260421T082754Z
URL:https://chamber.brenhamtexas.com/events/details/craft-beer-night-09-12-2019-40975
END:VEVENT

END:VCALENDAR
