BEGIN:VCALENDAR
VERSION:2.0
PRODID:-//ChamberMaster//Event Calendar 2.0//EN
METHOD:PUBLISH
X-PUBLISHED-TTL:P3D
REFRESH-INTERVAL:P3D
CALSCALE:GREGORIAN
BEGIN:VEVENT
DTSTART;VALUE=DATE:20200703
DTEND;VALUE=DATE:20200704
TRANSP:TRANSPARENT
X-MICROSOFT-CDO-ALLDAYEVENT:TRUE
SUMMARY:Hermann Furniture Children's Boutique Independence Sale
DESCRIPTION:SAVE UP TO 40% OFF ON\n\nPATRIOTIC CLOTHING AND SWIM SUITS\n\n\n\n\n\nTHE EMPORIUM WILL BE CLOSED ON SATURDAY\, JULY 4th\n\nHAVE A SAFE & FESTIVE INDEPENDENCE DAY
X-ALT-DESC;FMTTYPE=text/html:<div style="text-align: center\;"><span style="font-family:comic sans ms">SAVE UP TO 40% OFF ON<br>\nPATRIOTIC CLOTHING AND SWIM SUITS<br>\n<br>\n<br>\n<strong>THE EMPORIUM WILL BE CLOSED ON SATURDAY\, JULY 4th<br>\nHAVE A SAFE &amp\; FESTIVE INDEPENDENCE DAY</strong></span><br>\n&nbsp\;</div>\n
LOCATION:REGULAR STORE HOURS WE WILL BE CLOSED ON SATURDAY\, JULY 4th
UID:e.92.64564
SEQUENCE:3
DTSTAMP:20260420T082336Z
URL:https://chamber.brenhamtexas.com/events/details/hermann-furniture-children-s-boutique-independence-sale-07-03-2020-64564
END:VEVENT

END:VCALENDAR
