BEGIN:VCALENDAR
VERSION:2.0
PRODID:-//ChamberMaster//Event Calendar 2.0//EN
METHOD:PUBLISH
X-PUBLISHED-TTL:P3D
REFRESH-INTERVAL:P3D
CALSCALE:GREGORIAN
BEGIN:VEVENT
DTSTART:20260515T220000Z
DTEND:20260516T000000Z
X-MICROSOFT-CDO-ALLDAYEVENT:FALSE
SUMMARY:HERMANN'S 150TH ANNIVERSARY
DESCRIPTION:JOIN US AS WE CELEBRATE 150 YEARS IN BUSINESS!  REFRESHMENTS AND DOOR PRIZES!
X-ALT-DESC;FMTTYPE=text/html:JOIN US AS WE CELEBRATE 150 YEARS IN BUSINESS! &nbsp\;REFRESHMENTS AND DOOR PRIZES!
LOCATION:HERMANN FURNITURE & EMPORIUM 213 W. ALAMO STREET BRENHAM\, TEXAS. 77833 979-836-7231
UID:e.92.98674
SEQUENCE:3
DTSTAMP:20260426T030124Z
URL:https://chamber.brenhamtexas.com/events/details/hermann-s-150th-anniversary-98674
END:VEVENT

END:VCALENDAR
