BEGIN:VCALENDAR
VERSION:2.0
PRODID:-//ChamberMaster//Event Calendar 2.0//EN
METHOD:PUBLISH
X-PUBLISHED-TTL:P3D
REFRESH-INTERVAL:P3D
CALSCALE:GREGORIAN
BEGIN:VEVENT
DTSTART:20230530T140000Z
DTEND:20230601T190000Z
X-MICROSOFT-CDO-ALLDAYEVENT:FALSE
SUMMARY:I am Worthy Summer Series for Teens
DESCRIPTION:Daily sessions from 9am - 2pm\n\n \nEach day will include:\n\nI am Worthy curriculum (Check out worthyprogram.com for more information)\n\nHorsemanship classes\n\nSwimming\n\nCrafts\n\nMorning snack\n\n*Each participant will bring a lunch
X-ALT-DESC;FMTTYPE=text/html:Daily sessions from 9am - 2pm<br />\n&nbsp\;\n<p>Each day will include:<br />\nI am Worthy curriculum (Check out&nbsp\;worthyprogram.com&nbsp\;for more information)<br />\nHorsemanship classes<br />\nSwimming<br />\nCrafts<br />\nMorning snack</p>\n\n<p>*Each participant will bring a lunch</p>\n
LOCATION:Wonderhill Farm 2800 Caney Creek Rd Chappell Hill\, TX
UID:e.92.86193
SEQUENCE:3
DTSTAMP:20260426T005743Z
URL:https://chamber.brenhamtexas.com/events/details/i-am-worthy-summer-series-for-teens-86193
END:VEVENT

END:VCALENDAR
