BEGIN:VCALENDAR
VERSION:2.0
PRODID:-//ChamberMaster//Event Calendar 2.0//EN
METHOD:PUBLISH
X-PUBLISHED-TTL:P3D
REFRESH-INTERVAL:P3D
CALSCALE:GREGORIAN
BEGIN:VEVENT
DTSTART:20221110T160000Z
DTEND:20221110T200000Z
X-MICROSOFT-CDO-ALLDAYEVENT:FALSE
SUMMARY:Job Fair - Red\, White\, & You! - November 10th
DESCRIPTION:Red\, White & You! is a statewide hiring event that celebrates our country's veterans. While connecting veterans\, transitioning military members\, and military spouses to employers across Texas is a focus\, the event is open to all job seekers!\n\n\n\n If you are an employer and would like to participate\, call 979-595-2801 ext 2320 or email economicdev@cityofbrenham.org to register for a table by November 4th.
X-ALT-DESC;FMTTYPE=text/html:<span style="color:rgb(71\, 68\, 67)\; font-family:montserrat\,sans-serif\; font-size:18px">Red\, White &amp\; You! is a statewide hiring event that celebrates our country&rsquo\;s veterans. While connecting veterans\, transitioning military members\, and military spouses to employers across Texas is a focus\, the event is open to <em><u>all job seekers!</u></em></span><br />\n<br />\n<span style="color:rgb(71\, 68\, 67)\; font-family:montserrat\,sans-serif\; font-size:18px">&nbsp\;If you are an employer and would like to participate\, call 979-595-2801 ext 2320 or email&nbsp\;</span><a href="mailto:economicdev@cityofbrenham.org" style="box-sizing: border-box\; border: 0px solid rgb(226\, 232\, 240)\; background-color: rgba(0\, 0\, 0\, 0)\; color: rgb(255\, 111\, 97)\; font-family: montserrat\, sans-serif\; font-size: 18px\;">economicdev@cityofbrenham.org</a><span style="color:rgb(71\, 68\, 67)\; font-family:montserrat\,sans-serif\; font-size:18px">&nbsp\;to register for a table by November 4th.&nbsp\;</span>
LOCATION:Fireman's Training Center 1101 Hwy 290 W\, Brenham
UID:e.92.85238
SEQUENCE:3
DTSTAMP:20260420T232513Z
URL:https://chamber.brenhamtexas.com/events/details/job-fair-red-white-you-november-10th-85238
END:VEVENT

END:VCALENDAR
