BEGIN:VCALENDAR
VERSION:2.0
PRODID:-//ChamberMaster//Event Calendar 2.0//EN
METHOD:PUBLISH
X-PUBLISHED-TTL:P3D
REFRESH-INTERVAL:P3D
CALSCALE:GREGORIAN
BEGIN:VEVENT
DTSTART:20181013T150000Z
DTEND:20181013T213000Z
X-MICROSOFT-CDO-ALLDAYEVENT:FALSE
SUMMARY:Labor of Thine Hands
DESCRIPTION:Barrington Farm's annual blacksmithing program has been expanded to include other trade skills practiced in mid-19th century Texas! Ponder for a moment all of the skills and trades practiced by others that you rely upon daily. Auto mechanics\, carpenters\, electricians\, plumbers just to name a few! Just as you need skilled laborers to live\, so too did the farmers of early Texas. Join us as Barrington Farm presents this expanded program where demonstrators will exhibit some of the many skills needed by our ancestors. Hear the ringing of the blacksmith's hammer\, get your hands dirty as you help mold bricks\, discuss 19th century fashion with a tailor or watch a potter turn clay into vessels. Experience history as it comes to life before your eyes!
X-ALT-DESC;FMTTYPE=text/html:Barrington Farm&#39\;s annual blacksmithing program has been expanded to include other trade skills practiced in mid-19th century Texas! Ponder for a moment all of the skills and trades practiced by others that you rely upon daily. Auto mechanics\, carpenters\, electricians\, plumbers just to name a few! Just as you need skilled laborers to live\, so too did the farmers of early Texas. Join us as Barrington Farm presents this expanded program where demonstrators will exhibit some of the many skills needed by our ancestors. Hear the ringing of the blacksmith&#39\;s hammer\, get your hands dirty as you help mold bricks\, discuss 19th century fashion with a tailor or watch a potter turn clay into vessels. Experience history as it comes to life before your eyes!
LOCATION:Barrington Living History Farm located in Washington-on-the-Brazos State Historical Site 23400 Park Road 12 Washington\, TX
UID:e.92.58254
SEQUENCE:3
DTSTAMP:20260419T190627Z
URL:https://chamber.brenhamtexas.com/events/details/labor-of-thine-hands-58254
END:VEVENT

END:VCALENDAR
