BEGIN:VCALENDAR
VERSION:2.0
PRODID:-//ChamberMaster//Event Calendar 2.0//EN
METHOD:PUBLISH
X-PUBLISHED-TTL:P3D
REFRESH-INTERVAL:P3D
CALSCALE:GREGORIAN
BEGIN:VEVENT
DTSTART:20200221T010000Z
DTEND:20200221T030000Z
X-MICROSOFT-CDO-ALLDAYEVENT:FALSE
SUMMARY:Macbeth
DESCRIPTION:Written by William Shakespare.  Adapted by Jim Devenport.  When an honored Scottish general receives a prophecy from three witches that he will be crowned as the King of Scotland\, Macbeth and his villainous wife devise a plot to murder the current King and claim the throne.  Preoccupied with greed\, however\, Lord and Lady Macbeth begin their tragic descents into paranoia and madness.
X-ALT-DESC;FMTTYPE=text/html:Written by William Shakespare.&nbsp\; Adapted by Jim Devenport.&nbsp\; When an honored Scottish general receives a prophecy from three witches that he will be crowned as the King of Scotland\, Macbeth and his villainous wife devise a plot to murder the current King and claim the throne.&nbsp\; Preoccupied with greed\, however\, Lord and Lady Macbeth begin their tragic descents into paranoia and madness.
LOCATION:Blinn College - Brenham Dr. W.W. O'Donnell Performing Arts Center
UID:e.92.63177
SEQUENCE:3
DTSTAMP:20260419T134900Z
URL:https://chamber.brenhamtexas.com/events/details/macbeth-63177
END:VEVENT

END:VCALENDAR
