BEGIN:VCALENDAR
VERSION:2.0
PRODID:-//ChamberMaster//Event Calendar 2.0//EN
METHOD:PUBLISH
X-PUBLISHED-TTL:P3D
REFRESH-INTERVAL:P3D
CALSCALE:GREGORIAN
BEGIN:VEVENT
DTSTART:20250222T203000Z
DTEND:20250222T220000Z
X-MICROSOFT-CDO-ALLDAYEVENT:FALSE
SUMMARY:Mindful Mandala Workshop
DESCRIPTION:This workshop integrates gentle movement\, breathing and mindful art featuring neurographic mandala. Mindful art combines the benefits of mindfulness and creative expression and it is about the process\, not the final project. Whether you are new to meditation or are an experienced artist\, you'll find peace and inspiration in this beautiful Mandala workshop. \n\n\n\nMaterials are included\n\nNo experience necessary
X-ALT-DESC;FMTTYPE=text/html:This workshop integrates gentle movement\, breathing and mindful art featuring neurographic mandala. Mindful art combines the benefits of mindfulness and creative expression and it is about the process\, not the final project. Whether you are new to meditation or are an experienced artist\, you&#39\;ll find peace and inspiration in this beautiful Mandala workshop.&nbsp\;<br />\n<br />\nMaterials are included<br />\nNo experience necessary
LOCATION:Genesis Yoga 303 S. Baylor ST Brenham\, TX 77833
UID:e.92.92180
SEQUENCE:3
DTSTAMP:20260420T021121Z
URL:https://chamber.brenhamtexas.com/events/details/mindful-mandala-workshop-92180
END:VEVENT

END:VCALENDAR
