BEGIN:VCALENDAR
VERSION:2.0
PRODID:-//ChamberMaster//Event Calendar 2.0//EN
METHOD:PUBLISH
X-PUBLISHED-TTL:P3D
REFRESH-INTERVAL:P3D
CALSCALE:GREGORIAN
BEGIN:VEVENT
DTSTART:20191204T233000Z
DTEND:20191205T000000Z
X-MICROSOFT-CDO-ALLDAYEVENT:FALSE
SUMMARY:P90X Express
DESCRIPTION:P90X Express Live\, Don't let the name scare you- it's nothing like the DVD program. This exciting 30 minute express weightlifting workout incorporates lower and upper strength utilizing light to medium weights. Whether you are a beginner\, an elite athlete or anywhere in between\, there are options for every move to match your abilities. Every class will have you sweating\, toning\, and getting stronger. Get ready to workout\, sweat\, have fun? and BRING IT! Bring a set of light to medium dumbbells\, water and a towel.
X-ALT-DESC;FMTTYPE=text/html:P90X Express Live\, Don&#39\;t let the name scare you- it&#39\;s nothing like the DVD program. This exciting 30 minute express weightlifting workout incorporates lower and upper strength utilizing light to medium weights. Whether you are a beginner\, an elite athlete or anywhere in between\, there are options for every move to match your abilities. Every class will have you sweating\, toning\, and getting stronger. Get ready to workout\, sweat\, have fun? and BRING IT! Bring a set of light to medium dumbbells\, water and a towel.
LOCATION:ECLC Gym (old Alton School Gym) 1209 Mangrum
UID:e.92.61541
SEQUENCE:3
DTSTAMP:20260421T005416Z
URL:https://chamber.brenhamtexas.com/events/details/p90x-express-12-04-2019-61541
END:VEVENT

END:VCALENDAR
