BEGIN:VCALENDAR
VERSION:2.0
PRODID:-//ChamberMaster//Event Calendar 2.0//EN
METHOD:PUBLISH
X-PUBLISHED-TTL:P3D
REFRESH-INTERVAL:P3D
CALSCALE:GREGORIAN
BEGIN:VEVENT
DTSTART:20200213T200000Z
DTEND:20200213T203000Z
X-MICROSOFT-CDO-ALLDAYEVENT:FALSE
SUMMARY:Ribbon Cutting - Groundbreaking Edward Jones Brice Milliorn CFP\, Financial Advisor
DESCRIPTION:Join us for a Groundbreaking for a new location for Edward Jones Brice Milliorn CFP\, Financial Advisor.
X-ALT-DESC;FMTTYPE=text/html:Join us for a Groundbreaking for a new location for Edward Jones Brice Milliorn CFP\, Financial Advisor.
LOCATION:1110 S. Blue Bell Rd Brenham\, TX 77833
UID:e.92.63498
SEQUENCE:3
DTSTAMP:20260422T171959Z
URL:https://chamber.brenhamtexas.com/events/details/ribbon-cutting-groundbreaking-edward-jones-brice-milliorn-cfp-financial-advisor-63498
END:VEVENT

END:VCALENDAR
