BEGIN:VCALENDAR
VERSION:2.0
PRODID:-//ChamberMaster//Event Calendar 2.0//EN
METHOD:PUBLISH
X-PUBLISHED-TTL:P3D
REFRESH-INTERVAL:P3D
CALSCALE:GREGORIAN
BEGIN:VEVENT
DTSTART:20190921T150000Z
DTEND:20190921T210000Z
X-MICROSOFT-CDO-ALLDAYEVENT:FALSE
SUMMARY:"The People Who Made Our Town" Exhibit
DESCRIPTION:This is s display of the products\, people\, transportation\, and daily life of those people who make up our town.  It took people from all walks of life to form the towns we now have today.
X-ALT-DESC;FMTTYPE=text/html:This is s display of the products\, people\, transportation\, and daily life of those people who make up our town.&nbsp\; It took people from all walks of life to form the towns we now have today.&nbsp\;
LOCATION:Chappell Hill Historical Museum 9220 Poplar Street Chappell Hill\, TX 77426
UID:e.92.62186
SEQUENCE:3
DTSTAMP:20260421T075212Z
URL:https://chamber.brenhamtexas.com/events/details/the-people-who-made-our-town-exhibit-09-21-2019-62186
END:VEVENT

END:VCALENDAR
