BEGIN:VCALENDAR
VERSION:2.0
PRODID:-//ChamberMaster//Event Calendar 2.0//EN
METHOD:PUBLISH
X-PUBLISHED-TTL:P3D
REFRESH-INTERVAL:P3D
CALSCALE:GREGORIAN
BEGIN:VEVENT
DTSTART:20240728T180000Z
DTEND:20240728T200000Z
X-MICROSOFT-CDO-ALLDAYEVENT:FALSE
SUMMARY:The Prince Street Players LTD. Production of Treasure Island
DESCRIPTION:A musical adventure freely adapted from the novel by Robert Louis Stevenson book and lyrics by Jim Eiler music by Jim Eiler and Jeanne Bargy.  This adventure story follows Jim Hawkins\, an ordinary youth who is drawn into a dangerous race for buried treasure against the treacherous Long John Silver.  Excitement runs high in this adaptation of Robert Louis Stevenson's thrilling tale of pirates\, treasure maps and mutiny on the high seas.
X-ALT-DESC;FMTTYPE=text/html:A musical adventure freely adapted from the novel by Robert Louis Stevenson book and lyrics by Jim Eiler music by Jim Eiler and Jeanne Bargy.&nbsp\;&nbsp\;<span style="color: rgb(98\, 98\, 98)\; font-family: &quot\;Open Sans&quot\;\, sans-serif\; font-size: 15px\; background-color: rgb(249\, 249\, 249)\;">This adventure story follows Jim Hawkins\, an ordinary youth who is drawn into a dangerous race for buried treasure against the treacherous Long John Silver. &nbsp\;Excitement runs high in this adaptation of Robert Louis Stevenson&rsquo\;s thrilling tale of pirates\, treasure maps and mutiny on the high seas.</span>
LOCATION:Unity Theatre 300 Church St. Brenham\, TX 77833
UID:e.92.90503
SEQUENCE:3
DTSTAMP:20260420T101817Z
URL:https://chamber.brenhamtexas.com/events/details/the-prince-street-players-ltd-production-of-treasure-island-90503
END:VEVENT

END:VCALENDAR
